{"text_format":"2","workbook":"xlsx","n_sheets":3,"sheets":["Расчет","Титул","Оборот"],"not_rendered":{"charts":0,"images":0,"macros":0,"external_links":0,"defined_names":1,"comments":0,"pivot_tables":0},"unopened":[],"bounds":{"document_bytes":16777216,"sheet_cells":100000,"run_cost":"one","rows_first":2000,"rows_last":500,"rows_between":2000,"halvings":0,"cell_chars":16384,"cell_head_chars":4096},"cells_cut":0,"cells_raw":0,"read":"whole","date_system":"1900"}

{"sheet":"Расчет","index":0,"n_rows":46,"n_cols":14,"rows_kept":46,"cut":false,"hidden":false,"merged":[[31,0,31,1],[47,0,47,13],[49,0,49,13],[1,1,1,7],[1,8,1,9],[1,10,1,13],[2,1,2,5],[2,6,2,7],[2,8,2,13],[4,9,4,13],[5,13,7,13],[3,1,3,2],[3,3,3,4],[3,5,3,6],[3,7,3,8],[3,9,3,10],[3,11,3,12],[0,0,0,13],[22,0,22,3],[22,4,22,6],[23,0,23,3],[23,4,23,6],[4,1,4,2],[4,3,4,4],[4,5,4,6],[4,7,4,8],[22,9,23,13],[32,5,33,6],[35,5,39,6],[32,7,33,7],[35,7,39,7],[24,9,26,13]]}
["ОСНОВНОЙ ОТПУСК"]
["ФИО",{"$nulls":7},"Табельный №"]
["Подразделение",{"$nulls":5},"Должность"]
["Дата начала отпуска",null,null,"Дата окончания",null,null,null,"Итого кален. дней",null,{"$f":"F4-B4+1","v":1},null,"Праздничных"]
["За период работы","с",null,null,null,"по"]
["Год",2011,2011,2011,2011,2011,2011,2011,2011,2012,2012,2012,2012,"ИТОГО"]
["Месяц","май","июнь","июль","август","сентябрь","октябрь","ноябрь","декабрь","январь","февраль","март","апрель"]
["Должностной оклад",1170,1170,1170,1170,1170,1170,1170,1170,1170,1170,1170,1170]
["Аккорд",{"$nulls":12},{"$f":"SUM(B9:M9)","v":0}]
["Повременно",{"$nulls":10},1170,1170,2340]
["Надбавка",{"$nulls":12},0]
["Мес.премия",{"$nulls":12},0]
["Кварт. Премия",{"$nulls":12},0]
["Годовая Премия",{"$nulls":12},0]
["Доп.премия",{"$nulls":12},0]
["ИТОГО",{"$f":" SUM(B9:B15)","v":0},0,0,0,0,0,0,0,0,0,1170,1170,2340]
["Итого с коэф. Повышения",{"$f":"B16*B21","v":0},0,0,0,0,0,0,0,0,0,1170,1170,{"$f":"SUM(B17:M17)","v":2340}]
["Не отработано дней",31,30,31,31,30,31,30,31,31,29,null,null,305]
["Коэффициент дней",{"$f":"IF(B18=0,29.4,29.4/B20*(B20-B18))","v":0},{"$f":"IF(C18=0,29.4,29.4/C20*(C20-C18))","v":0},{"$f":"IF(D18=0,29.4,29.4/D20*(D20-D18))","v":0},0,0,0,0,0,0,0,29.4,29.4,58.8]
["Кол. Календарнхых дней",{"$f":"IF(B7=\"январь\",31,IF(B7=\"февраль\",29,IF(B7=\"март\",31,IF(B7=\"апрель\",30,IF(B7=\"май\",31,IF(B7=\"июнь\",30,IF(B7=\"июль\",31,IF(B7=\"август\",31,IF(B7=\"сентябрь\",30,IF(B7=\"октябрь\",31,IF(B7=\"ноябрь\",30,IF(B7=\"декабрь\",31,))))))))))))","v":31},{"$f":"IF(C7=\"январь\",31,IF(C7=\"февраль\",29,IF(C7=\"март\",31,IF(C7=\"апрель\",30,IF(C7=\"май\",31,IF(C7=\"июнь\",30,IF(C7=\"июль\",31,IF(C7=\"август\",31,IF(C7=\"сентябрь\",30,IF(C7=\"октябрь\",31,IF(C7=\"ноябрь\",30,IF(C7=\"декабрь\",31,))))))))))))","v":30},{"$f":"IF(D7=\"январь\",31,IF(D7=\"февраль\",29,IF(D7=\"март\",31,IF(D7=\"апрель\",30,IF(D7=\"май\",31,IF(D7=\"июнь\",30,IF(D7=\"июль\",31,IF(D7=\"август\",31,IF(D7=\"сентябрь\",30,IF(D7=\"октябрь\",31,IF(D7=\"ноябрь\",30,IF(D7=\"декабрь\",31,))))))))))))","v":31},31,30,31,30,31,31,29,31,30,366]
["Коэффициент повыш. Зарплаты",{"$f":"ROUND(IF(B8=$M$8,1,$M$8/B8),3)","v":1},{"$f":"ROUND(IF(C8=$M$8,1,$M$8/C8),3)","v":1},1,1,1,1,1,1,1,1,1,1,"хххххх"]
[]
["Среднедневной заработок",null,null,null,{"$f":"N17/N19","v":39.795918367346943},null,null,"рублей"]
["Итого к начислению",null,null,null,{"$f":"E23*(J4-N4)","v":39.795918367346943},null,null,"рублей"]
{"$rows_empty":7}
["Отработано дней в:",null,"квартальная премия ","годовая"]
["январь",{"$nulls":4},"Сумма годовой премии"]
["февраль"]
["март"]
["апрель",{"$nulls":4},"Сумма приходящаяся на диапозон расчета отпуска",null,{"$f":"H33/B46*D46","v":{"$error":"#DIV/0!"}}]
["май"]
["июнь"]
["июль"]
["август"]
["сентябрь"]
["октябрь"]
["ноябрь"]
["декабрь"]
["январь"]
["Итого",{"$f":"SUM(B33:B45)","v":0},{"$f":"SUM(C33:C44)","v":0},{"$f":"SUM(D33:D45)","v":0}]

{"sheet":"Титул","index":1,"n_rows":56,"n_cols":80,"rows_kept":56,"cut":false,"hidden":false,"merged":[[47,64,48,79],[54,22,54,36],[54,40,54,54],[54,58,54,77],[55,22,55,36],[55,40,55,54],[55,58,55,77],[42,20,42,25],[42,26,42,37],[50,2,50,23],[50,31,50,52],[47,34,48,48],[47,49,48,63],[44,62,44,79],[43,0,43,19],[43,20,43,25],[43,26,43,37],[43,38,43,49],[43,50,43,61],[43,62,43,79],[44,0,44,19],[44,20,44,25],[44,26,44,37],[44,38,44,49],[44,50,44,61],[42,38,42,49],[42,50,42,61],[40,62,40,79],[41,62,41,79],[42,62,42,79],[40,38,40,49],[40,50,40,61],[41,0,41,19],[41,20,41,25],[41,26,41,37],[41,38,41,49],[41,50,41,61],[42,0,42,19],[38,62,38,79],[39,0,39,19],[39,20,39,25],[39,26,39,37],[39,38,39,49],[39,50,39,61],[39,62,39,79],[38,0,38,19],[38,20,38,25],[38,26,38,37],[38,38,38,49],[38,50,38,61],[40,0,40,19],[40,20,40,25],[40,26,40,37],[37,0,37,25],[37,26,37,37],[37,38,37,61],[37,62,37,79],[36,0,36,25],[36,26,36,37],[36,38,36,61],[36,62,36,79],[17,0,17,79],[33,0,34,39],[33,40,34,54],[33,55,34,70],[30,2,30,23],[30,31,30,52],[27,0,28,2],[27,3,28,17],[25,15,25,36],[25,44,25,65],[20,0,20,79],[19,0,19,79],[18,0,18,79],[27,18,28,79],[16,0,16,79],[15,0,15,65],[15,66,15,79],[12,0,12,79],[14,66,14,79],[11,52,11,65],[11,66,11,79],[0,2,1,54],[2,2,5,51],[7,0,7,53],[6,0,6,53],[6,64,6,79],[5,64,5,79],[4,64,4,79],[10,66,10,79],[10,52,10,65],[10,29,11,48]]}
[{"$nulls":79},"Унифицированная форма № Т-60"]
[{"$nulls":79},"Утверждена постановлением Госкомстата РФ"]
[{"$nulls":79},"от 5 января 2004 г. № 1"]
[]
[{"$nulls":64},"Код"]
[{"$nulls":62},"Форма по ОКУД",null,"0301051"]
[{"$nulls":62},"по ОКПО",null,"76293890"]
["наименование организации"]
[]
[]
[{"$nulls":29},"ЗАПИСКА-РАСЧЕТ",{"$nulls":22},"Номер документа",{"$nulls":13},"Дата составления"]
[]
["о предоставлении отпуска работнику"]
[]
[{"$nulls":66},"Табельный номер"]
[{"$f":"Расчет!B2","v":0},{"$nulls":65},{"$f":"Расчет!K2","v":0}]
["фамилия, имя, отчество"]
[{"$f":"Расчет!B3","v":0}]
["структурное подразделение"]
[{"$f":"Расчет!I3","v":0}]
["должность (специальность, профессия), разряд, класс (категория) квалификации"]
[]
[]
["А. Предоставляется ежегодный основной оплачиваемый отпуск"]
[]
["за период работы с",{"$nulls":14},{"$f":"Расчет!D5","v":"00:00:00"},{"$nulls":26},"по",null,{"$f":"Расчет!H5","v":"00:00:00"}]
[]
["на ",null,null,{"$f":"Расчет!J4-Расчет!N4","v":1}]
[]
[]
[null,"с",{"$f":"Расчет!B4","v":"00:00:00"},{"$nulls":25},"по",null,null,{"$f":"Расчет!F4","v":"00:00:00"}]
[]
[]
["Б. и (или) ежегодный дополнительный (другой) отпуск на ",{"$nulls":39},{"$f":"AA42+AA43+AA44+AA45","v":0},{"$nulls":14}," календарных дней"]
[]
[]
["Ежегодный дополнительный (другой)",{"$nulls":25},"Количество",{"$nulls":11},"Дата",{"$nulls":23},"Основание предостав-"]
["отпуск",{"$nulls":25},"календарных",{"$nulls":35},"ления ежегодного"]
["вид",{"$nulls":19},"код",{"$nulls":5},"дней",{"$nulls":11},"начала",{"$nulls":11},"окончания",{"$nulls":11},"дополнительного"]
[{"$nulls":38},"отпуска",{"$nulls":11},"отпуска",{"$nulls":11},"(другого) отпуска"]
[1,{"$nulls":19},2,{"$nulls":5},3,{"$nulls":11},4,{"$nulls":11},5,{"$nulls":11},6]
[]
[]
[]
[]
[]
[]
[{"$nulls":34},"В. Всего отпуск на ",{"$nulls":14},{"$f":"D28+AO34","v":1},{"$nulls":14}," календарных дней"]
[]
[]
[null,"с",{"$f":"C31","v":"00:00:00"},{"$nulls":25},"по",null,null,{"$f":"AF31","v":"00:00:00"}]
[]
[]
[]
["Работник кадровой службы"]
[{"$nulls":22},"должность",{"$nulls":17},"личная подпись",{"$nulls":17},"расшифровка подписи"]

{"sheet":"Оборот","index":2,"n_rows":59,"n_cols":80,"rows_kept":59,"cut":false,"hidden":false,"merged":[[57,9,57,23],[57,27,57,67],[54,34,54,43],[54,48,54,50],[54,53,54,62],[54,65,54,67],[58,0,58,79],[50,12,50,79],[51,12,51,79],[52,12,52,67],[52,71,52,76],[47,54,47,62],[47,63,47,79],[48,54,48,62],[48,63,48,79],[56,9,56,23],[56,27,56,67],[47,0,47,8],[47,9,47,17],[47,18,47,26],[47,27,47,35],[47,36,47,44],[47,45,47,53],[48,0,48,8],[48,9,48,17],[48,18,48,26],[48,27,48,35],[48,36,48,44],[48,45,48,53],[45,54,45,62],[45,63,45,79],[46,0,46,8],[46,9,46,17],[45,0,45,8],[45,9,45,17],[45,18,45,26],[45,27,45,35],[45,36,45,44],[45,45,45,53],[46,18,46,26],[46,27,46,35],[46,36,46,44],[46,45,46,53],[46,54,46,62],[46,63,46,79],[43,54,43,62],[43,63,43,79],[44,0,44,8],[44,9,44,17],[43,0,43,8],[43,9,43,17],[43,18,43,26],[43,27,43,35],[43,36,43,44],[43,45,43,53],[44,18,44,26],[44,27,44,35],[44,36,44,44],[44,45,44,53],[44,54,44,62],[44,63,44,79],[31,63,31,71],[31,72,31,79],[35,0,35,8],[35,9,35,17],[35,18,35,26],[35,27,35,35],[41,0,41,62],[41,63,41,79],[42,0,42,8],[42,9,42,17],[35,36,35,44],[35,45,35,53],[35,54,35,62],[35,63,35,71],[36,72,36,79],[37,45,37,53],[42,18,42,26],[42,27,42,35],[42,36,42,44],[42,45,42,53],[42,54,42,62],[42,63,42,79],[33,9,33,17],[33,18,33,26],[31,0,31,8],[31,9,31,17],[31,18,31,26],[31,27,31,35],[31,36,31,44],[31,45,31,53],[31,54,31,62],[30,0,30,8],[30,9,30,17],[30,18,30,26],[30,27,30,35],[30,36,30,44],[30,45,30,53],[30,54,30,62],[30,63,30,71],[30,72,30,79],[28,0,28,8],[28,9,28,17],[29,45,29,53],[29,54,29,62],[28,18,28,26],[28,27,28,35],[28,36,28,44],[28,45,28,53],[29,63,29,71],[29,72,29,79],[29,0,29,8],[29,9,29,17],[29,18,29,26],[29,27,29,35],[29,36,29,44],[27,0,27,8],[27,9,27,26],[27,27,27,35],[27,36,27,44],[27,45,27,62],[28,54,28,62],[28,63,28,71],[28,72,28,79],[27,63,27,71],[27,72,27,79],[25,72,25,79],[26,0,26,4],[26,5,26,26],[26,27,26,35],[26,36,26,40],[26,41,26,62],[26,63,26,71],[25,0,25,4],[24,0,24,79],[26,72,26,79],[21,0,21,11],[21,12,21,23],[21,24,21,37],[25,5,25,26],[25,27,25,35],[25,36,25,40],[25,41,25,62],[25,63,25,71],[22,0,22,23],[22,24,22,37],[21,42,21,60],[22,42,22,60],[19,0,19,11],[19,12,19,23],[19,24,19,37],[18,0,18,11],[18,12,18,23],[18,24,18,37],[20,0,20,11],[20,12,20,23],[20,24,20,37],[16,12,16,23],[16,24,16,37],[14,42,14,53],[14,54,14,65],[17,0,17,11],[17,12,17,23],[17,24,17,37],[16,0,16,11],[14,0,14,11],[14,12,14,23],[14,24,14,37],[14,66,14,79],[10,54,13,65],[12,12,12,23],[12,24,12,37],[13,0,13,11],[15,0,15,11],[15,12,15,23],[15,24,15,37],[15,42,15,79],[9,42,9,53],[9,54,9,65],[9,66,9,79],[10,0,10,11],[10,12,10,23],[10,24,10,37],[10,42,13,53],[13,12,13,23],[13,24,13,37],[9,0,9,11],[9,12,9,23],[9,24,9,37],[10,66,13,79],[11,0,11,11],[11,12,11,23],[11,24,11,37],[12,0,12,11],[8,66,8,79],[6,66,6,79],[7,0,7,11],[7,12,7,23],[7,24,7,37],[7,42,7,53],[7,54,7,65],[7,66,7,79],[6,0,6,11],[6,12,6,23],[6,24,6,37],[6,42,6,53],[6,54,6,65],[8,0,8,11],[8,12,8,23],[8,24,8,37],[8,42,8,53],[8,54,8,65],[4,66,4,79],[5,0,5,11],[5,12,5,23],[5,24,5,37],[5,42,5,53],[5,54,5,65],[5,66,5,79],[4,0,4,11],[4,12,4,23],[4,24,4,37],[4,42,4,53],[4,54,4,65],[1,0,1,79],[3,0,3,23],[3,24,3,37],[3,42,3,65],[3,66,3,79],[38,0,38,35],[38,36,38,71],[39,0,39,8],[39,9,39,17],[39,18,39,26],[39,27,39,35],[39,36,39,44],[32,36,32,71],[34,0,34,35],[34,36,34,71],[36,0,36,35],[36,36,36,71],[37,0,37,8],[37,9,37,17],[37,18,37,26],[37,27,37,35],[37,36,37,44],[32,0,32,35],[33,0,33,8],[33,27,33,35],[33,36,33,44],[33,45,33,53],[39,45,39,53],[39,54,39,62],[39,63,39,71],[32,72,32,79],[34,72,34,79],[37,72,37,79],[38,72,38,79],[39,72,39,79],[37,54,37,62],[37,63,37,71],[33,72,33,79],[33,54,33,62],[33,63,33,71],[35,72,35,79],[18,61,18,79],[19,61,19,79],[20,61,20,79],[21,61,21,79],[22,61,22,79],[16,42,16,60],[17,42,17,60],[18,42,18,60],[19,42,19,60],[20,42,20,60],[16,61,16,79],[17,61,17,79]]}
[{"$nulls":79},"Оборотная сторона формы № Т-60"]
["Расчет оплаты отпуска"]
[]
["Расчетный период",{"$nulls":23},"Выплаты,",{"$nulls":17},"Количество",{"$nulls":23},"Средний"]
["год",{"$nulls":11},"месяц",{"$nulls":11},"учитываемые при",{"$nulls":17},"календарных",{"$nulls":11},"часов",{"$nulls":11},"дневной"]
[{"$nulls":24},"исчислении",{"$nulls":17},"дней",{"$nulls":11},"расчетного",{"$nulls":11},"(часовой)"]
[{"$nulls":24},"среднего",{"$nulls":17},"расчетного",{"$nulls":11},"периода",{"$nulls":11},"заработок,"]
[{"$nulls":24},"заработка,",{"$nulls":17},"периода",{"$nulls":23},"руб."]
[{"$nulls":24},"руб."]
[1,{"$nulls":11},2,{"$nulls":11},3,{"$nulls":17},4,{"$nulls":11},5,{"$nulls":11},6]
[{"$f":"Расчет!B6","v":2011},{"$nulls":11},{"$f":"Расчет!B7","v":"май"},{"$nulls":11},{"$f":"Расчет!B17","v":0},{"$nulls":17},{"$f":"Расчет!N19","v":58.8},{"$nulls":11},{"$f":"AQ11*8","v":470.4},{"$nulls":11},{"$f":"Y23/AQ11","v":39.795918367346943}]
[{"$f":"Расчет!C6","v":2011},{"$nulls":11},{"$f":"Расчет!C7","v":"июнь"},{"$nulls":11},{"$f":"Расчет!C17","v":0}]
[{"$f":"Расчет!D6","v":2011},{"$nulls":11},{"$f":"Расчет!D7","v":"июль"},{"$nulls":11},{"$f":"Расчет!D17","v":0}]
[{"$f":"Расчет!E6","v":2011},{"$nulls":11},{"$f":"Расчет!E7","v":"август"},{"$nulls":11},{"$f":"Расчет!E17","v":0}]
[{"$f":"Расчет!F6","v":2011},{"$nulls":11},{"$f":"Расчет!F7","v":"сентябрь"},{"$nulls":11},{"$f":"Расчет!F17","v":0}]
[{"$f":"Расчет!G6","v":2011},{"$nulls":11},{"$f":"Расчет!G7","v":"октябрь"},{"$nulls":11},{"$f":"Расчет!G17","v":0},{"$nulls":17},"К НАЧИСЛЕНИЮ"]
[{"$f":"Расчет!H6","v":2011},{"$nulls":11},{"$f":"Расчет!H7","v":"ноябрь"},{"$nulls":11},{"$f":"Расчет!H17","v":0},{"$nulls":17},{"$f":"UPPER(IF(F26>0,F26,\"\"))","v":"МАЙ"},{"$nulls":18},{"$f":"UPPER(IF(AP26>0,AP26,\"\"))","v":"ИЮНЬ"}]
[{"$f":"Расчет!I6","v":2011},{"$nulls":11},{"$f":"Расчет!I7","v":"декабрь"},{"$nulls":11},{"$f":"Расчет!I17","v":0},{"$nulls":17},{"$f":"J34","v":0},{"$nulls":18},{"$f":"AT34","v":0}]
[{"$f":"Расчет!J6","v":2012},{"$nulls":11},{"$f":"Расчет!J7","v":"январь"},{"$nulls":11},{"$f":"Расчет!J17","v":0}]
[{"$f":"Расчет!K6","v":2012},{"$nulls":11},{"$f":"Расчет!K7","v":"февраль"},{"$nulls":11},{"$f":"Расчет!K17","v":0}]
[{"$f":"Расчет!L6","v":2012},{"$nulls":11},{"$f":"Расчет!L7","v":"март"},{"$nulls":11},{"$f":"Расчет!L17","v":1170}]
[{"$f":"Расчет!M6","v":2012},{"$nulls":11},{"$f":"Расчет!M7","v":"апрель"},{"$nulls":11},{"$f":"Расчет!M17","v":1170}]
["Итого",{"$nulls":23},{"$f":"Расчет!N17","v":2340}]
[]
["Начислено"]
["за",{"$nulls":4},"май",{"$nulls":21},"месяц",{"$nulls":8},"за",{"$nulls":4},"июнь",{"$nulls":21},"месяц"]
[{"$nulls":5},"текущий",{"$nulls":35},"будущий"]
["количество",{"$nulls":8},"сумма за отпуск, руб.",{"$nulls":17},"другие",{"$nulls":8},"количество",{"$nulls":8},"сумма за отпуск, руб.",{"$nulls":17},"другие",{"$nulls":8},"всего,"]
["календарных",{"$nulls":8},"из фонда",{"$nulls":8},"не ",{"$nulls":8},"начисления",{"$nulls":8},"календарных",{"$nulls":8},"из фонда",{"$nulls":8},"не ",{"$nulls":8},"начисления",{"$nulls":8},"руб."]
["дней",{"$nulls":8},"оплаты",{"$nulls":8},"принимаемые",{"$nulls":17},"дней",{"$nulls":8},"оплаты",{"$nulls":8},"принимаемые"]
["отпуска",{"$nulls":8},"труда",{"$nulls":8},"к налогообло",{"$nulls":17},"отпуска",{"$nulls":8},"труда",{"$nulls":8},"к налогообло"]
[7,{"$nulls":8},8,{"$nulls":8},9,{"$nulls":8},10,{"$nulls":8},11,{"$nulls":8},12,{"$nulls":8},13,{"$nulls":8},14,{"$nulls":8},15]
[{"$f":"Расчет!A1","v":"ОСНОВНОЙ ОТПУСК"},{"$nulls":35},{"$f":"Расчет!A1","v":"ОСНОВНОЙ ОТПУСК"},{"$nulls":35},"ОБЩЕЕ"]
[{"$nulls":9},{"$f":"BO11*A34","v":0},{"$nulls":8},0,{"$nulls":26},{"$f":"BO11*AK34","v":0},{"$nulls":26},{"$f":"BU36+BU38","v":0}]
["Дополнитеный",{"$nulls":35},"Дополнитеный",{"$nulls":35},"ИЗ ФОТ"]
[{"$nulls":54},{"$f":"AK36*BO11","v":0},{"$nulls":17},{"$f":"J34+J36+J38+J40+AT34+AT36+AT38+AT40","v":0}]
[{"$nulls":72},"ИЗ ПРИБЫЛИ"]
[{"$nulls":72},{"$f":"S34+S36+S38+S40+BC34+BC36+BC38+BC40","v":0}]
[{"$nulls":72},"ПРОЧИЕ"]
[{"$nulls":72},{"$f":"AB34+AB36+AB38+AB40+BL34+BL36+BL38+BL40","v":0}]
[]
["Удержано, руб.",{"$nulls":62},"Причитается к"]
["налог на",{"$nulls":53},"всего",{"$nulls":8},"выплате сумма, руб."]
["доход"]
[16,{"$nulls":8},17,{"$nulls":8},18,{"$nulls":8},19,{"$nulls":8},20,{"$nulls":8},21,{"$nulls":8},22,{"$nulls":8},23]
[{"$f":"BU34/100*13","v":0},{"$nulls":53},{"$f":"A46+J46+S46+AB46+AK46+AT46","v":0},{"$nulls":8},{"$f":"ROUND(BU34-BC46,0)","v":0}]
[]
[]
[]
[]
["К выплате сумма"]
[{"$nulls":12},"прописью"]
[{"$nulls":68},"руб.",null,null,0,{"$nulls":5},"коп."]
[]
["по платежной ведомости (расходному ордеру) №",{"$nulls":33},"-",{"$nulls":12},"от «","-",null,null,"»",null,"-",{"$nulls":10},"20","-",null,null,"г."]
[]
["Бухгалтер"]
[{"$nulls":9},"личная подпись",{"$nulls":17},"расшифровка подписи"]
["С расчетом ознакомлен ____________________   "]