Workbook

Sheet Рабочий план счетов
B2: Рабочий план счетов
B3: № счета | C3: Наименование счета
B4: 02 | C4: Амортизация основных средств
B5: 05 | C5: Амортизация нематериальных активов
B6: 10 | C6: Материалы
B7: 10-1 | C7: Сырье и материалы
B8: 10-2 | C8: Покупные полуфабрикаты и комплектующие изделия, конструкции и детали
B9: 10-5 | C9: Запасные части
B10: 10-6 | C10: Прочие материалы
B11: 10-11 | C11: Специальная оснастка и специальная одежда в эксплуатации
B12: 20 | C12: Основное производство
B13: 23 | C13: Вспомогательные производства
B14: 25 | C14: Общепроизводственные расходы
... B31: 96 | C31: Резервы предстоящих расходов

Sheet Пересчет себестоимости
A3: Остатки незавершенного производства на начало месяца, руб.
B4: Статьи расходов | C4: 1 заказ | D4: 2 заказ | E4: 3 заказ | F4: 4 заказ | G4: 5 заказ | H4: Всего остаток
A5: 1 | B5: Сырьё и материалы | C5: =Исх.данн!D27 -> 1550 | D5: =Исх.данн!E27 -> 930 | E5: =Исх.данн!F27 -> 2500 | F5: =Исх.данн!G27 -> 775 | G5: =Исх.данн!H27 -> 465 | H5: =SUM(C5:G5) -> 6220
A6: 2 | B6: Возвратные отходы (вычитаются) | C6: =Исх.данн!D28 -> 340 | D6: =Исх.данн!E28 -> 74 | E6: =Исх.данн!F28 -> 300 | F6: =Исх.данн!G28 -> 170 | G6: =Исх.данн!H28 -> 37 | H6: =SUM(C6:G6) -> 921
A7: 3 | B7: Основная заработная плата производственных рабочих | C7: =Исх.данн!D29 -> 4200 | D7: =Исх.данн!E29 -> 1750 | E7: =Исх.данн!F29 -> 5850 | F7: =Исх.данн!G29 -> 2100 | G7: =Исх.данн!H29 -> 875 | H7: =SUM(C7:G7) -> 14775
A8: 4 | B8: Дополнительная заработная плата производственных рабочих | C8: =Исх.данн!D30 -> 620 | D8: =Исх.данн!E30 -> 190 | E8: =Исх.данн!F30 -> 710 | F8: =Исх.данн!G30 -> 310 | G8: =Исх.данн!H30 -> 95 | H8: =SUM(C8:G8) -> 1925
A9: 5 | B9: Отчисления на социальные нужды | C9: =Исх.данн!D31 -> 1856 | D9: =Исх.данн!E31 -> 747 | E9: =Исх.данн!F31 -> 2526 | F9: =Исх.данн!G31 -> 928 | G9: =Исх.данн!H31 -> 374 | H9: =SUM(C9:G9) -> 6431
A10: 6 | B10: Расходы на содержание и эксплуатацию оборудования | C10: =Исх.данн!D32 -> 10220 | D10: =Исх.данн!E32 -> 3900 | E10: =Исх.данн!F32 -> 13900 | F10: =Исх.данн!G32 -> 5110 | G10: =Исх.данн!H32 -> 1950 | H10: =SUM(C10:G10) -> 35080
A11: 7 | B11: Общепроизводственные расходы | C11: =Исх.данн!D33 -> 2940 | D11: =Исх.данн!E33 -> 1320 | E11: =Исх.данн!F33 -> 3870 | F11: =Исх.данн!G33 -> 1470 | G11: =Исх.данн!H33 -> 660 | H11: =SUM(C11:G11) -> 10260
A12: 8 | B12: Общехозяйственные расходы | C12: =Исх.данн!D34 -> 870 | D12: =Исх.данн!E34 -> 310 | E12: =Исх.данн!F34 -> 1120 | F12: =Исх.данн!G34 -> 435 | G12: =Исх.данн!H34 -> 155 | H12: =SUM(C12:G12) -> 2890
A13: 9 | B13: Итого себестоимость за период | C13: =SUM(C5:C12)-C6-C6 -> 21916 | D13: =SUM(D5:D12)-D6-D6 -> 9073 | E13: =SUM(E5:E12)-E6-E6 -> 30176 | F13: =SUM(F5:F12)-F6-F6 -> 10958 | G13: =SUM(G5:G12)-G6-G6 -> 4537 | H13: =SUM(H7:H12)+H5-H6 -> 76660
H14: =SUM(C13:G13) -> 76660
A16: Выписка из ведомости учета расхода материалов, ЗП и накладных расходов за отчетный период, руб
B17: Статьи расходов | C17: 1 заказ | D17: 2 заказ | E17: 3 заказ | F17: 4 заказ | G17: 5 заказ | H17: Всего за период
A18: 1 | B18: Сырьё и материалы | C18: =Исх.данн!D40 -> 2440 | D18: =Исх.данн!E40 -> 1910 | E18: =Исх.данн!F40 -> 4280 | F18: =Расходы!$D$18 -> 8565 | G18: =Исх.данн!H40 -> 955 | H18: =SUM(C18:G18) -> 18150
A19: 2 | B19: Возвратные отходы (вычитаются) | C19: =Исх.данн!D41 -> 430 | D19: =Исх.данн!E41 -> 180 | E19: =Исх.данн!F41 -> 570 | F19: =Расходы!D19 -> 545 | G19: =Исх.данн!H41 -> 90 | H19: =SUM(C19:G19) -> 1815
A20: 3 | B20: Основная заработная плата производственных рабочих | C20: =Исх.данн!D42 -> 6620 | D20: =Исх.данн!E42 -> 3640 | E20: =Исх.данн!F42 -> 10200 | F20: =Исх.данн!D19 -> 8450 | G20: =Исх.данн!H42 -> 1820 | H20: =SUM(C20:G20) -> 30730
A21: 4 | B21: Дополнительная заработная плата производственных рабочих | C21: =Исх.данн!D43 -> 2380 | D21: =Исх.данн!E43 -> 2380 | E21: =Исх.данн!F43 -> 2380 | F21: =Исх.данн!D20 -> 3510 | G21: =Исх.данн!H43 -> 1190 | H21: =SUM(C21:G21) -> 11840
A22: 5 | B22: Отчисления на социальные нужды | C22: =Исх.данн!D44 -> 2700 | D22: =Исх.данн!E44 -> 1806 | E22: =Исх.данн!F44 -> 3774 | F22: =Расходы!D23 -> 13612.5 | G22: =Исх.данн!H44 -> 903 | H22: =SUM(C22:G22) -> 22795.5
A23: 6 | B23: Расходы на содержание и эксплуатацию оборудования | C23: =Исх.данн!D45 -> 18980 | D23: =Исх.данн!E45 -> 18980 | E23: =Исх.данн!F45 -> 18980 | F23: =Расходы!D24 -> 24635 | G23: =Исх.данн!H45 -> 9490 | H23: =SUM(C23:G23) -> 91065
A24: 7 | B24: Общепроизводственные расходы | C24: =Исх.данн!D46 -> 9020 | D24: =Исх.данн!E46 -> 9020 | E24: =Исх.данн!F46 -> 9020 | F24: =Расходы!D25 -> 8200.25 | G24: =Исх.данн!H46 -> 4510 | H24: =SUM(C24:G24) -> 39770.25
A25: 8 | B25: Общехозяйственные расходы | C25: =Исх.данн!D47 -> 4260 | D25: =Исх.данн!E47 -> 4260 | E25: =Исх.данн!F47 -> 4260 | F25: =Расходы!D26 -> 29452.25 | G25: =Исх.данн!H47 -> 2130 | H25: =SUM(C25:G25) -> 44362.25
A26: 9 | B26: Потери от брака | C26: =Исх.данн!D48 -> 150 | D26: =Исх.данн!E48 -> 250 | E26: =Исх.данн!F48 -> 400 | F26: =Расходы!D27 -> 470 | G26: =Исх.данн!H48 -> 125 | H26: =SUM(C26:G26) -> 1395
B27: Итого себестоимость за период | C27: =SUM(C18:C26)-C19-C19 -> 46120 | D27: =SUM(D18:D26)-D19-D19 -> 42066 | E27: =SUM(E18:E26)-E19-E19 -> 52724 | F27: =SUM(F18:F26)-F19-F19 -> 96350 | G27: =SUM(G18:G26)-G19-G19 -> 21033 | H27: =SUM(H18,H20:H26)-H19 -> 258293
F28: ='Затраты по счетам'!M10 -> 107977.5 | H28: =SUM(C27:G27) -> 258293 | I28: =H27+H13 -> 334953
A30: Фактическая калькуляция заказов за отчетный период, руб
B31: Статьи расходов | C31: 1 заказ | D31: 2 заказ | E31: 3 заказ | F31: 4 заказ | G31: 5 заказ | H31: Всего за период | I31: Доля
A32: 1 | B32: Сырье и материалы | C32: =C5+C18 -> 3990 | D32: =D5+D18 -> 2840 | E32: =E5+E18 -> 6780 | F32: =F5+F18 -> 9340 | G32: =G5+G18 -> 1420 | H32: =SUM(C32:G32) -> 24370 | I32: =H32/I42 -> 0.21080859 | J32: Выбираем в качестве базы распределения основную заработную плату производственных рабочих, поскольку ее доля имеет наибольший удельный вес.
A33: 2 | B33: Возвратные отходы (вычитаются) | C33: =C6+C19 -> 770 | D33: =D6+D19 -> 254 | E33: =E6+E19 -> 870 | F33: =F6+F19 -> 715 | G33: =G6+G19 -> 127 | H33: =SUM(C33:G33) -> 2736 | I33: =H33/I42 -> 0.023667308
A34: 3 | B34: Основная заработная плата производственных рабочих | C34: =C7+C20 -> 10820 | D34: =D7+D20 -> 5390 | E34: =E7+E20 -> 16050 | F34: =F7+F20 -> 10550 | G34: =G7+G20 -> 2695 | H34: =SUM(C34:G34) -> 45505 | I34: =H34/I42 -> 0.39363336
A35: 4 | B35: Дополнительная заработная плата производственных рабочих | C35: =C8+C21 -> 3000 | D35: =D8+D21 -> 2570 | E35: =E8+E21 -> 3090 | F35: =F8+F21 -> 3820 | G35: =G8+G21 -> 1285 | H35: =SUM(C35:G35) -> 13765 | I35: =H35/I42 -> 0.11907182
A36: 5 | B36: Отчисления на социальные нужды | C36: =C9+C22 -> 4556 | D36: =D9+D22 -> 2553 | E36: =E9+E22 -> 6300 | F36: =F9+F22 -> 14540.5 | G36: =G9+G22 -> 1277 | H36: =SUM(C36:G36) -> 29226.5 | I36: =H36/I42 -> 0.25281893
A37: 6 | B37: Расходы на содержание и эксплуатацию оборудования | C37: =C10+C23 -> 29200 | D37: =D10+D23 -> 22880 | E37: =E10+E23 -> 32880 | F37: =F10+F23 -> 29745 | G37: =G10+G23 -> 11440 | H37: =SUM(C37:G37) -> 126145 | I37: =SUM(I32:I36) -> 1
A38: 7 | B38: Общепроизводственные расходы | C38: =C11+C24 -> 11960 | D38: =D11+D24 -> 10340 | E38: =E11+E24 -> 12890 | F38: =F11+F24 -> 9670.25 | G38: =G11+G24 -> 5170 | H38: =SUM(C38:G38) -> 50030.25
A39: 8 | B39: Общехозяйственные расходы | C39: =C12+C25 -> 5130 | D39: =D12+D25 -> 4570 | E39: =E12+E25 -> 5380 | F39: =F12+F25 -> 29887.25 | G39: =G12+G25 -> 2285 | H39: =SUM(C39:G39) -> 47252.25
A40: 9 | B40: Потери от брака | C40: =C26 -> 150 | D40: =D26 -> 250 | E40: =E26 -> 400 | F40: =F26 -> 470 | G40: =G26 -> 125 | H40: =SUM(C40:G40) -> 1395
B41: Итого себестоимость за период | C41: =SUM(C32:C40)-C33-C33 -> 68036 | D41: =SUM(D32:D40)-D33-D33 -> 51139 | E41: =SUM(E32:E40)-E33-E33 -> 82900 | F41: =SUM(F32:F40)-F33-F33 -> 107308 | G41: =SUM(G32:G40)-G33-G33 -> 25570 | H41: =SUM(H32,H34:H40)-H33 -> 334953
F42: =F28 -> 107977.5 | H42: =SUM(C41:G41) -> 334953 | I42: =SUM(H32:H36) -> 115602.5
A44: Перераспределение накладных расходов пропорционально выбранной базе распределения, руб.
B45: Статьи расходов | C45: 1 заказ | D45: 2 заказ | E45: 3 заказ | F45: 4 заказ | G45: 5 заказ | H45: Всего за период
...

Sheet Расходы
B2: Расходы на производство по экономическим элементам
B3: №п/п | C3: Элементы расходов | D3: Сумма, руб.
B4: 1 | C4: Материальные расходы (вычитаются возвратные отходы) | D4: ='Затраты по счетам'!M3 -> 25065
B5: 2 | C5: Расходы на оплату труда | D5: ='Затраты по счетам'!M4 -> 47170
B6: 3 | C6: Отчисления на социальные нужды | D6: ='Затраты по счетам'!M5 -> 13612.5
B7: 4 | C7: Амортизация | D7: ='Затраты по счетам'!M6 -> 9280
B8: 5 | C8: Прочие расходы | D8: ='Затраты по счетам'!M7 -> 15495
C9: ИТОГО | D9: ='Затраты по счетам'!M8 -> 110622.5
C10: Пророст незавершенного производства | D10: ='Затраты по счетам'!M9 -> 2645
C11: Производственная себестоимость продукции | D11: ='Затраты по счетам'!M10 -> 107977.5
D12: ='Затраты по счетам'!D89 -> 107977.5
B16: Расходы на производство продукции по статьям калькуляции
B17: №п/п | C17: Статья расходов | D17: Сумма, руб.
B18: 1 | C18: Сырье и материалы | D18: ='Затраты по счетам'!D3+'Затраты по счетам'!D19+'Затраты по счетам'!D77 -> 8565
B19: 2 | C19: Возвратные отходы (вычитаются) | D19: ='Затраты по счетам'!I3+'Затраты по счетам'!I78 -> 545
B20: 3 | C20: Покупные изделия, полуфабрикаты и услуги производственного характера сторонних предприятий и организаций | D20: ='Затраты по счетам'!D4 -> 3710
B21: 4 | C21: Топливо и энергия на технологические цели | D21: ='Затраты по счетам'!D8+'Затраты по счетам'!D23+'Затраты по счетам'!D24+'Затраты по счетам'!D63+'Затраты по счетам'!D64+'Затраты по счетам'!D66+'Затраты по счетам'!D67 -> 20725
B22: 5 | C22: Заработная плата производственных рабочих | D22: =D5 -> 47170
B23: 6 | C23: Отчисления на социальные нужды | D23: =D6 -> 13612.5
B24: 7 | C24: Расходы на подготовку и освоение производства | D24: ='Затраты по счетам'!I34 -> 24635
B25: 8 | C25: Общепроизводственные расходы | D25: ='Затраты по счетам'!I46 -> 8200.25
B26: 9 | C26: Общехозяйственные расходы | D26: ='Затраты по счетам'!I57 -> 29452.25
B27: 10 | C27: Потеря от брака | D27: ='Затраты по счетам'!I78 -> 470
B28: 11 | C28: Прочие производственные расходы | D28: ='Затраты по счетам'!D8 -> 3600 | E28: только из 20
C29: Производственная себестоимость продукции | D29: =SUM(D20:D28)+D18-D19 -> 159595 | E29: ='Затраты по счетам'!M10 -> 107977.5
B30: 12 | C30: Расходы на продажу | D30: ='Регистрационный журнал'!F68 -> 3045
C31: Полная себестоимость продукции | D31: =D29+D30 -> 162640

Sheet Затраты по счетам
B1: Счет 20
B2: Сальдо нач. | C2: =Исх.данн!G6 -> 22700 | D2: Дебет | I2: Кредит | K2: № п/п | L2: Элементы расходов | M2: Сумма
B3: 20 | C3: 10-1 | D3: ='Регистрационный журнал'!F12 -> 7640 | G3: 10-6 | H3: 20 | I3: ='Регистрационный журнал'!F17 -> 75 | K3: 1. | L3: Материальные расходы (вычитаются возвратные отходы) | M3: =D3-I3+D4+D19+D20+D32+D33+D58+D77+D8+D23+D24+D36-I78 -> 25065
B4: 20 | C4: 10-2 | D4: ='Регистрационный журнал'!F15 -> 3710 | G4: 28 | H4: 20 | I4: ='Регистрационный журнал'!F47 -> 2105 | K4: 2. | L4: Расходы на оплату труда | M4: =D5+D21+D34+D45+D61+D78-I76+D6 -> 47170
B5: 20 | C5: 70 | D5: ='Регистрационный журнал'!F24 -> 24650 | G5: 43 | H5: 20 | I5: =C2+D12-D13-I3-I4 -> 106257.5 | K5: 3. | L5: Отчисления на социальные нужды | M5: =D7+D22+D35+D46+D62+D79 -> 13612.5
B6: 20 | C6: 96 | D6: ='Регистрационный журнал'!F30 -> 1850 | G6: Итого | I6: =SUM(I3:I5) -> 108437.5 | K6: 4. | L6: Аммортизация | M6: =D18+D31+D56+D57 -> 9280
B7: 20 | C7: 69 | D7: ='Регистрационный журнал'!F32 -> 7395 | G7: Шахматная ведомость: | I7: ='Шахматная ведомость'!J16 -> 108437.5 | K7: 5. | L7: Прочие расходы | M7: =D59+D60+D64+D63+D66+D67 -> 15495
B8: 20 | C8: 60 | D8: ='Регистрационный журнал'!F39 -> 3600 | L8: ИТОГО | M8: =SUM(M3:M7) -> 110622.5
B9: 20 | C9: 25-1 | D9: ='Регистрационный журнал'!F64 -> 24585 | L9: Прирост незавершонного производства | M9: =D13-C2 -> 2645
B10: 20 | C10: 25-2 | D10: ='Регистрационный журнал'!F65 -> 8200.25 | L10: Производственная себестоимость продукции | M10: =M8-M9 -> 107977.5
B11: 20 | C11: 26 | D11: ='Регистрационный журнал'!F66 -> 29452.25 | M11: =D89 -> 107977.5
B12: Итого | D12: =SUM(D3:D11) -> 111082.5
B13: Сальдо конечное | D13: =Исх.данн!G7 -> 25345 | E13: =C2+D12-I6 -> 25345
B14: Итого по шахматной ведомости | D14: ='Шахматная ведомость'!W5 -> 111082.5
B16: Счет 23
D17: Дебет | I17: Кредит
B18: 23 | C18: 02 | D18: ='Регистрационный журнал'!F7 -> 1315 | F18: 0.5 | G18: 25-1 | H18: 23 | I18: =D25*F18 -> 4007.5
B19: 23 | C19: 10-1 | D19: ='Регистрационный журнал'!F13 -> 900 | F19: 0.35 | G19: 25-2 | H19: 23 | I19: =D25*F19 -> 2805.25
B20: 23 | C20: 10-5 | D20: ='Регистрационный журнал'!F16 -> 390 | F20: 0.15 | G20: 26 | H20: 23 | I20: =D25*F20 -> 1202.25
B21: 23 | C21: 70 | D21: ='Регистрационный журнал'!F25 -> 1850 | G21: Итого | I21: =SUM(I18:I20) -> 8015
B22: 23 | C22: 69 | D22: ='Регистрационный журнал'!F33 -> 555 | G22: Итого по шахматной ведомости | I22: ='Шахматная ведомость'!K16 -> 8015
B23: 23 | C23: 60 | D23: ='Регистрационный журнал'!F40 -> 1750
B24: 23 | C24: 60 | D24: ='Регистрационный журнал'!F44 -> 1255
B25: Итого | D25: =SUM(D18:D24) -> 8015
B26: Итого по шахматной ведомости | D26: ='Шахматная ведомость'!W6 -> 8015
B29: Счёт 25-1
D30: Дебет | I30: Кредит
B31: 25-1 | C31: 02 | D31: ='Регистрационный журнал'!F6 -> 6615 | G31: 28 | H31: 25-1 | I31: ='Регистрационный журнал'!F52 -> 50
B32: 25-1 | C32: 10-6 | D32: ='Регистрационный журнал'!F14 -> 1100 | G32: 20 | H32: 25-1 | I32: ='Регистрационный журнал'!F64 -> 24585
B33: 25-1 | C33: 10-11 | D33: ='Регистрационный журнал'!F19 -> 70
B34: 25-2 | C34: 70 | D34: ='Регистрационный журнал'!F26 -> 6225 | G34: Итого | I34: =SUM(I31:I33) -> 24635
B35: 25-1 | C35: 69 | D35: ='Регистрационный журнал'!F34 -> 1867.5 | G35: шахматная ведомость: | I35: ='Шахматная ведомость'!L16 -> 24635
B36: 25-1 | C36: 60 | D36: ='Регистрационный журнал'!F57 -> 4750
B37: 25-1 | C37: 23 | D37: ='Регистрационный журнал'!F60 -> 4007.5
B39: Итого | D39: =SUM(D31:D38) -> 24635
B40: шахматная ведомость: | D40: ='Шахматная ведомость'!W7 -> 24635
B43: Счёт 25-2
D44: Дебет | I44: Кредит
B45: 25-2 | C45: 70 | D45: ='Регистрационный журнал'!F27 -> 4150 | G45: 20 | H45: 25-2 | I45: ='Регистрационный журнал'!F65 -> 8200.25
B46: 25-2 | C46: 69 | D46: ='Регистрационный журнал'!F35 -> 1245 | G46: Итого | I46: =SUM(I45:I45) -> 8200.25
...

Sheet Исх.данн
B2: Начальные остатки на счетах синтетического учета
B3: Шифр счета | C3: Наименование счета | D3: № заказа (сумма в руб )
D4: 1 | E4: 2 | F4: 3 | G4: 4 | H4: 5
B5: 20 | C5: Основное производство:
C6: на начало отчетного периода | D6: 43400 | E6: 20500 | F6: 15300 | G6: 22700 | H6: 10250
C7: на конец отчетного периода | D7: 50690 | E7: 25100 | F7: 15840 | G7: 25345 | H7: 12550
B8: 96 | C8: Расходы будущих периодов | D8: 21200 | E8: 1400 | F8: 1060 | G8: 10600 | H8: 5200
C11: На основании первичных документов отнесена заработная плата рабочих-сдельщиков на калькулируемые группы продукции следующим образом:
C12: Элементы | D12: сумма (руб.)
C13: На изготовление брошюр, журналов в мягкой обложке | D13: 4950
C14: На изготовление книжных блоков | D14: 6100
C15: На изготовление переплетных крышек | D15: 2230
C16: На отделку переплетных крышек | D16: 1150
C19: Основная ЗП рабочих-повременщиков | D19: 8450
C20: Дополнительная ЗП | D20: 3510
C25: Остатки незавершенного производства на начало месяца, руб.
C26: Статьи расходов | D26: 1 заказ | E26: 2 заказ | F26: 3 заказ | G26: 4 заказ | H26: 5 заказ | I26: Всего остаток
C27: Сырьё и материалы | D27: 1550 | E27: 930 | F27: 2500 | G27: 775 | H27: 465 | I27: =SUM(D27:H27) -> 6220
C28: Возвратные отходы (вычитаются) | D28: 340 | E28: 74 | F28: 300 | G28: 170 | H28: 37 | I28: =SUM(D28:H28) -> 921
C29: Основная заработная плата производственных рабочих | D29: 4200 | E29: 1750 | F29: 5850 | G29: 2100 | H29: 875 | I29: =SUM(D29:H29) -> 14775
C30: Дополнительная заработная плата производственных рабочих | D30: 620 | E30: 190 | F30: 710 | G30: 310 | H30: 95 | I30: =SUM(D30:H30) -> 1925
C31: Отчисления на социальные нужды | D31: 1856 | E31: 747 | F31: 2526 | G31: 928 | H31: 374 | I31: =SUM(D31:H31) -> 6431
C32: Расходы на содержание и эксплуатацию оборудования | D32: 10220 | E32: 3900 | F32: 13900 | G32: 5110 | H32: 1950 | I32: =SUM(D32:H32) -> 35080
C33: Общепроизводственные расходы | D33: 2940 | E33: 1320 | F33: 3870 | G33: 1470 | H33: 660 | I33: =SUM(D33:H33) -> 10260
C34: Общехозяйственные расходы | D34: 870 | E34: 310 | F34: 1120 | G34: 435 | H34: 155 | I34: =SUM(D34:H34) -> 2890
C35: Итого себестоимость за период | D35: =SUM(D27:D34)-D28-D28 -> 21916 | E35: =SUM(E27:E34)-E28-E28 -> 9073 | F35: =SUM(F27:F34)-F28-F28 -> 30176 | G35: =SUM(G27:G34)-G28-G28 -> 10958 | H35: =SUM(H27:H34)-H28-H28 -> 4537 | I35: =SUM(I29:I34)+I27-I28 -> 76660
I36: =SUM(D35:H35) -> 76660
C38: Выписка из ведомости учета расхода материалов, ЗП и накладных расходов за отчетный период, руб
C39: Статьи расходов | D39: 1 заказ | E39: 2 заказ | F39: 3 заказ | G39: 4 заказ | H39: 5 заказ | I39: Всего за период
C40: Сырьё и материалы | D40: 2440 | E40: 1910 | F40: 4280 | G40: 1220 | H40: 955 | I40: =SUM(D40:H40) -> 10805
C41: Возвратные отходы (вычитаются) | D41: 430 | E41: 180 | F41: 570 | G41: 215 | H41: 90 | I41: =SUM(D41:H41) -> 1485
C42: Основная заработная плата производственных рабочих | D42: 6620 | E42: 3640 | F42: 10200 | G42: 3310 | H42: 1820 | I42: =SUM(D42:H42) -> 25590
C43: Дополнительная заработная плата производственных рабочих | D43: 2380 | E43: 2380 | F43: 2380 | G43: 1190 | H43: 1190 | I43: =SUM(D43:H43) -> 9520
C44: Отчисления на социальные нужды | D44: =(D42+D43)*(0.22+0.029+0.031+0.02) -> 2700 | E44: =(E42+E43)*(0.22+0.029+0.031+0.02) -> 1806 | F44: =(F42+F43)*(0.22+0.029+0.031+0.02) -> 3774 | G44: =(G42+G43)*(0.22+0.029+0.031+0.02) -> 1350 | H44: =(H42+H43)*(0.22+0.029+0.031+0.02) -> 903 | I44: =SUM(D44:H44) -> 10533
C45: Расходы на содержание и эксплуатацию оборудования | D45: 18980 | E45: 18980 | F45: 18980 | G45: 9490 | H45: 9490 | I45: =SUM(D45:H45) -> 75920
C46: Общепроизводственные расходы | D46: 9020 | E46: 9020 | F46: 9020 | G46: 4510 | H46: 4510 | I46: =SUM(D46:H46) -> 36080
C47: Общехозяйственные расходы | D47: 4260 | E47: 4260 | F47: 4260 | G47: 2130 | H47: 2130 | I47: =SUM(D47:H47) -> 17040
C48: Потери от брака | D48: 150 | E48: 250 | F48: 400 | G48: 810 | H48: 125 | I48: =SUM(D48:H48) -> 1735
C49: Итого себестоимость за период | D49: =SUM(D40:D48)-D41-D41 -> 46120 | E49: =SUM(E40:E48)-E41-E41 -> 42066 | F49: =SUM(F40:F48)-F41-F41 -> 52724 | G49: =SUM(G40:G48)-G41-G41 -> 23795 | H49: =SUM(H40:H48)-H41-H41 -> 21033 | I49: =SUM(I43:I48)+I41-I42 -> 126723
I50: =SUM(D49:H49) -> 185738

Sheet Шахматная ведомость
B2: Шахматная ведомость
C3: 02 | D3: 05 | E3: 10-1 | F3: 10-2 | G3: 10-5 | H3: 10-6 | I3: 10-11 | J3: 20 | K3: 23 | L3: 25-1 | M3: 25-2 | N3: 26 | O3: 28 | P3: 44 | Q3: 51 | R3: 60 | S3: 69 | T3: 70 | U3: 71 | V3: 96 | W3: Итого
B4: 10-6 | J4: ='Регистрационный журнал'!F17 -> 75 | W4: =SUM(C4:V4) -> 75
B5: 20 | E5: ='Регистрационный журнал'!F12 -> 7640 | F5: ='Регистрационный журнал'!F15 -> 3710 | L5: ='Регистрационный журнал'!F64 -> 24585 | M5: ='Регистрационный журнал'!F65 -> 8200.25 | N5: ='Регистрационный журнал'!F66 -> 29452.25 | R5: ='Регистрационный журнал'!F39 -> 3600 | S5: ='Регистрационный журнал'!F32 -> 7395 | T5: ='Регистрационный журнал'!F24 -> 24650 | V5: ='Регистрационный журнал'!F30 -> 1850 | W5: =SUM(C5:V5) -> 111082.5
B6: 23 | C6: ='Регистрационный журнал'!F7 -> 1315 | E6: ='Регистрационный журнал'!F13 -> 900 | G6: ='Регистрационный журнал'!F16 -> 390 | R6: ='Регистрационный журнал'!F40+'Регистрационный журнал'!F44 -> 3005 | S6: ='Регистрационный журнал'!F33 -> 555 | T6: ='Регистрационный журнал'!F25 -> 1850 | W6: =SUM(C6:V6) -> 8015
B7: 25-1 | C7: ='Регистрационный журнал'!F6 -> 6615 | H7: ='Регистрационный журнал'!F14 -> 1100 | I7: ='Регистрационный журнал'!F19 -> 70 | K7: ='Регистрационный журнал'!F60 -> 4007.5 | R7: ='Регистрационный журнал'!F57 -> 4750 | S7: ='Регистрационный журнал'!F34 -> 1867.5 | T7: ='Регистрационный журнал'!F26 -> 6225 | W7: =SUM(C7:V7) -> 24635
B8: 25-2 | K8: ='Регистрационный журнал'!F61 -> 2805.25 | S8: ='Регистрационный журнал'!F35 -> 1245 | T8: ='Регистрационный журнал'!F27 -> 4150 | W8: =SUM(C8:V8) -> 8200.25
B9: 26 | C9: ='Регистрационный журнал'!F8 -> 900 | D9: ='Регистрационный журнал'!F9 -> 450 | I9: ='Регистрационный журнал'!F20 -> 420 | K9: ='Регистрационный журнал'!F62 -> 1202.25 | R9: ='Регистрационный журнал'!F41+'Регистрационный журнал'!F42+'Регистрационный журнал'!F45+'Регистрационный журнал'!F46+'Регистрационный журнал'!F58 -> 14120 | S9: ='Регистрационный журнал'!F36 -> 2535 | T9: ='Регистрационный журнал'!F28 -> 8450 | U9: ='Регистрационный журнал'!F21+'Регистрационный журнал'!F22 -> 1375 | W9: =SUM(C9:V9) -> 29452.25
B10: 28 | E10: ='Регистрационный журнал'!F49 -> 25 | J10: ='Регистрационный журнал'!F47 -> 2105 | L10: ='Регистрационный журнал'!F52 -> 50 | S10: ='Регистрационный журнал'!F51 -> 15 | T10: ='Регистрационный журнал'!F50 -> 50 | W10: =SUM(C10:V10) -> 2245
B11: 43 | J11: ='Регистрационный журнал'!F67 -> 106257.5 | O11: ='Регистрационный журнал'!F54 -> 1720 | W11: =SUM(C11:V11) -> 107977.5
B12: 60 | Q12: ='Регистрационный журнал'!F56 -> 1400 | W12: =SUM(C12:V12) -> 1400
B13: 70 | O13: ='Регистрационный журнал'!F53 -> 55 | W13: =SUM(C13:V13) -> 55
B14: 90-2 | O14: ='Регистрационный журнал'!F55 -> 470 | P14: ='Регистрационный журнал'!F68 -> 3045 | W14: =SUM(C14:V14) -> 3515
B15: 96 | S15: ='Регистрационный журнал'!F37 -> 360 | T15: ='Регистрационный журнал'!F29 -> 1200 | W15: =SUM(C15:V15) -> 1560
B16: Итого | C16: =SUM(C4:C15) -> 8830 | D16: =SUM(D4:D15) -> 450 | E16: =SUM(E4:E15) -> 8565 | F16: =SUM(F4:F15) -> 3710 | G16: =SUM(G4:G15) -> 390 | H16: =SUM(H4:H15) -> 1100 | I16: =SUM(I4:I15) -> 490 | J16: =SUM(J4:J15) -> 108437.5 | ... V16: =SUM(V4:V15) -> 1850 | W16: =SUM(C16:V16) -> 298212.5
W17: =SUM(W4:W15) -> 298212.5

Sheet Регистрационный журнал
A2: Хозяйственные операции по учету расходов на производство
A3: № п/п | B3: Содержание операции | D3: Бухгалтерская проводка | F3: Сумма (руб)
D4: Дебет | E4: Кредит
A5: 1 | B5: Начисленна амортизация основных средств:
B6: Основного производства | D6: 25-1 | E6: 02 | F6: 6615
B7: Вспомогательного производства | D7: 23 | E7: 02 | F7: 1315
B8: Общехозяйственного назначения | D8: 26 | E8: 02 | F8: 900
A9: 2 | B9: Начисленна амортизация нематериальных активов общехозяйственного назначения | D9: 26 | E9: 05 | F9: 450
A10: 3 | B10: Отпущены со склада согласно ведомости распределения:
A11: 3 1 | B11: Материалы:
B12: В основное производство | D12: 20 | E12: 10-1 | F12: 7640
B13: Во вспомогательное производство | D13: 23 | E13: 10-1 | F13: 900
B14: На обслуживание подразделений общехозяйственного назначения | D14: 25-1 | E14: 10-6 | F14: 1100
A15: 3 2 | B15: Покупные полуфабрикаты в основное производство | D15: 20 | E15: 10-2 | F15: 3710
A16: 3 3 | B16: Запасные части на ремонт оборудования | D16: 23 | E16: 10-5 | F16: 390
A17: 4 | B17: Оприходованны на склад отходы основного производства | D17: 10-6 | E17: 20 | F17: 75
A18: 5 | B18: Списаны инструменты, используемые менее года на нужды:
B19: Основного производства | D19: 25-1 | E19: 10-11 | F19: 70
B20: Подразделений общехозяйственного назначения | D20: 26 | E20: 10-11 | F20: 420
A21: 6 | B21: Согласно авансовому отету подотчетного лица списаны представительские расходы на общехозяйственные нужды | D21: 26 | E21: 71 | F21: 125
A22: 7 | B22: Согласно авансовому отчету списаные командировочные расходы директора | D22: 26 | E22: 71 | F22: 1250
A23: 8 | B23: По данным расчетно платежной ведомости заработная плата составила:
B24: Рабочим основного производства | D24: 20 | E24: 70 | F24: 24650
B25: Рабочим вспомогательного производства | D25: 23 | E25: 70 | F25: 1850
B26: Рабочим по обслуживанию оборудования | D26: 25-1 | E26: 70 | F26: 6225
B27: Цеховому персоналу | D27: 25-2 | E27: 70 | F27: 4150
B28: Персоналу завода управления | D28: 26 | E28: 70 | F28: 8450
B29: Рабочим за время отпуска | D29: 96 | E29: 70 | F29: 1200
A30: 9 | B30: Отчисления в резерв на оплату предстоящих отпусков рабочим составили | D30: 20 | E30: 96 | F30: 1850
A31: 10 | B31: От размера фонда оплаты труда начислить взносы во внебюджетные фонды взносы на дополнительное страхование от несчастных случаев и травматизма
B32: Рабочих основного производства | D32: 20 | E32: 69 | F32: ='Отчисления в Фонды'!I5 -> 7395
B33: Рабочих вспомогательного производства | D33: 23 | E33: 69 | F33: ='Отчисления в Фонды'!I6 -> 555
B34: Рабочих по обслуживанию оборудования | D34: 25-1 | E34: 69 | F34: ='Отчисления в Фонды'!I7 -> 1867.5
B35: Цехового персонала | D35: 25-2 | E35: 69 | F35: ='Отчисления в Фонды'!I8 -> 1245
B36: Персонала заводоуправления | D36: 26 | E36: 69 | F36: ='Отчисления в Фонды'!I9 -> 2535
B37: Рабочих за время отпуска | D37: 96 | E37: 69 | F37: ='Отчисления в Фонды'!I10 -> 360
A38: 11 | B38: Учтены счета поставщиков за энергию, тепло и воду для нужд:
B39: Основного производства | D39: 20 | E39: 60 | F39: 3600
B40: Вспомогательного производства | D40: 23 | E40: 60 | F40: 1750
B41: Общехозяйственного назначения | D41: 26 | E41: 60 | F41: 3450
...

Sheet Отчисления в Фонды
B2: Расчеты отчислений во внебюджетные фонды
B3: Виды оплаты | C3: Сумма | D3: Пенсион-ный фонд | E3: ФСС | F3: ФФОМС | G3: ТФОМС | H3: ИТОГО | I3: Всего
D4: 0.22 | E4: 0.029 | F4: 0.031 | G4: 0.02
B5: Рабочим основного производства: | C5: ='Регистрационный журнал'!F24 -> 24650 | D5: =$C5*D$4 -> 5423 | E5: =$C5*E$4 -> 714.85 | F5: =$C5*F$4 -> 764.15 | G5: =$C5*G$4 -> 493 | H5: =SUM(C5:G5) -> 32045 | I5: =SUM(D5:G5) -> 7395
B6: Рабочим вспомогательного производства: | C6: ='Регистрационный журнал'!F25 -> 1850 | D6: =$C6*D$4 -> 407 | E6: =$C6*E$4 -> 53.65 | F6: =$C6*F$4 -> 57.35 | G6: =$C6*G$4 -> 37 | H6: =SUM(C6:G6) -> 2405 | I6: =SUM(D6:G6) -> 555
B7: Рабочим по обслуживанию оборудования: | C7: ='Регистрационный журнал'!F26 -> 6225 | D7: =$C7*D$4 -> 1369.5 | E7: =$C7*E$4 -> 180.525 | F7: =$C7*F$4 -> 192.975 | G7: =$C7*G$4 -> 124.5 | H7: =SUM(C7:G7) -> 8092.5 | I7: =SUM(D7:G7) -> 1867.5
B8: Цеховому персоналу: | C8: ='Регистрационный журнал'!F27 -> 4150 | D8: =$C8*D$4 -> 913 | E8: =$C8*E$4 -> 120.35 | F8: =$C8*F$4 -> 128.65 | G8: =$C8*G$4 -> 83 | H8: =SUM(C8:G8) -> 5395 | I8: =SUM(D8:G8) -> 1245
B9: Персоналу заводоуправления: | C9: ='Регистрационный журнал'!F28 -> 8450 | D9: =$C9*D$4 -> 1859 | E9: =$C9*E$4 -> 245.05 | F9: =$C9*F$4 -> 261.95 | G9: =$C9*G$4 -> 169 | H9: =SUM(C9:G9) -> 10985 | I9: =SUM(D9:G9) -> 2535
B10: Рабочим за время отпуска: | C10: ='Регистрационный журнал'!F29 -> 1200 | D10: =$C10*D$4 -> 264 | E10: =$C10*E$4 -> 34.8 | F10: =$C10*F$4 -> 37.2 | G10: =$C10*G$4 -> 24 | H10: =SUM(C10:G10) -> 1560 | I10: =SUM(D10:G10) -> 360
B11: ИТОГО: | C11: =SUM(C5:C10) -> 46525 | D11: =$C11*D$4 -> 10235.5 | E11: =$C11*E$4 -> 1349.225 | F11: =$C11*F$4 -> 1442.275 | G11: =$C11*G$4 -> 930.5 | H11: =SUM(H5:H10) -> 60482.5 | I11: =SUM(I5:I10) -> 13957.5
B12: Начислена:
B13: Зароботная плата рабочих | C13: ='Регистрационный журнал'!F50 -> 50 | D13: =$C13*D$4 -> 11 | E13: =$C13*E$4 -> 1.45 | F13: =$C13*F$4 -> 1.55 | G13: =$C13*G$4 -> 1 | H13: =SUM(C13:G13) -> 65 | I13: =SUM(D13:G13) -> 15

Sheet ЗП
B2: Распределение заработной платы рабочих по калькулируемым группам
B3: Наименование калькулируемых групп продукции | C3: Прямая естественная зарплата рабочих | D3: Доля каждой группы в общем объеме в % | E3: Косвенная основная зарплата рабочих | F3: ИТОГО основная зарплата рабочих | G3: Доля каждой группы в общем объеме в % | H3: Дополнительная заработная плата | I3: ВСЕГО зарплата рабочих
B4: Изготовление брошюр журналов в обложке | C4: 4950 | D4: =C4/C8 -> 0.34303534 | E4: =8450*D4 -> 2898.6486 | F4: =C4+E4 -> 7848.6486 | G4: =F4/F8 -> 0.34303534 | H4: =3510*G4 -> 1204.0541 | I4: =F4+H4 -> 9052.7027
B5: Изготовление книжных бланков | C5: 6100 | D5: =C5/C8 -> 0.42273042 | E5: =8450*D5 -> 3572.0721 | F5: =C5+E5 -> 9672.0721 | G5: =F5/F8 -> 0.42273042 | H5: =3510*G5 -> 1483.7838 | I5: =F5+H5 -> 11155.856
B6: Изготовление переплётных крышек | C6: 2230 | D6: =C6/C8 -> 0.15453915 | E6: =8450*D6 -> 1305.8559 | F6: =C6+E6 -> 3535.8559 | G6: =F6/F8 -> 0.15453915 | H6: =3510*G6 -> 542.43243 | I6: =F6+H6 -> 4078.2883
B7: Отделка переплётных крышек | C7: 1150 | D7: =C7/C8 -> 0.07969508 | E7: =8450*D7 -> 673.42342 | F7: =C7+E7 -> 1823.4234 | G7: =F7/F8 -> 0.07969508 | H7: =3510*G7 -> 279.72973 | I7: =F7+H7 -> 2103.1532
B8: ИТОГО | C8: =SUM(C4:C7) -> 14430 | D8: =SUM(D4:D7) -> 1 | E8: =SUM(E4:E7) -> 8450 | F8: =SUM(F4:F7) -> 22880 | G8: =SUM(G4:G7) -> 1 | H8: =SUM(H4:H7) -> 3510 | I8: =SUM(I4:I7) -> 26390
