Workbook
Name _Rat3: Отчет!#REF!
Name Rate: [1]нормативы!$D$2
Name скрыть: Отчет!#REF!,Отчет!#REF!,Отчет!#REF!
Name скрыть: '[2]Отчет Формы'!$AJ:$AK,'[2]Отчет Формы'!$AM:$AN,'[2]Отчет Формы'!$AP:$AQ

Sheet дано
B1: ООО "ГОРНЯК"
B2: Общая система налогообложения
B3: Оптовая торговля
A4: счет | C4: кол-во тонн | D4: цена без НДС, руб | E4: ст-ть без НДС, тыс руб
B5: Реализация | C5: =1000*1000 -> 1000000 | D5: 36000 | E5: =C5*D5/1000 -> 36000000
A6: 41 | B6: Покупка | C6: =C5 -> 1000000 | D6: 24000 | E6: =C6*D6/1000 -> 24000000
A7: 44 | B7: Расходы при продаже | C7: =C6 -> 1000000 | D7: 1200 | E7: =C7*D7/1000 -> 1200000
A8: 44 | B8: управленческие расходы | E8: =6000000/12 -> 500000
B9: 01 января кредит | E9: 12000
B10: срок кредита, мес | C10: 12
B11: ставка по кредиту | C11: 0.12
B12: На кредит в январе отчетного года были приобретены ОС стоимостью 12 млн. руб., но уже с учетом НДС 20%.
B13: Стоимость ОС | E13: 10000
B14: Срок полезного использования | D14: 10 | E14: лет
B15: Способ начисления амортизации – линейный.
B16: упрощение - все оборотные статьи баланса остаются в течение года неизменными, например: дебиторская задолженность (или запасы товара, кредиторка, запасы материалов и прочее) не меняется из месяца в месяц
B18: платеж | E18: =-PMT(C11/12,C10,E9) -> 1066.1855
B19: стоимость кредита | E19: =E18*12 -> 12794.226
B20: % в год | E20: =E19-E9 -> 794.22557

Sheet Отчет
A2: Отчет о прибыли и убытках | D2: Прогноз Движения денежных средств | G2: Прогнозный Баланс
E3: ( 000 USD)
B4: 2007 | H4: 39083 | I4: 39448
A5: Чистые продажи | B5: 280 | D5: I. Операционная деятельность | G5: АКТИВЫ
D6: Приток
A7: Себестоимость | B7: 180 | G7: Основные средства(без аморт.) | H7: 4130 | I7: 4140
D8: Чистая прибыль | E8: =B24 -> 13
A9: Валовая прибыль | B9: =B5-B7 -> 100 | D9: Амортизация | E9: =B13 -> 20 | G9: Постоянные Активы | H9: =SUM(H7:H7) -> 4130 | I9: =SUM(I7:I7) -> 4140
A11: Зарплата и фонды | B11: 30 | D11: Изменение рабочего капитала | G11: Запасы сырья | H11: 84 | I11: 54
A12: Операционные расходы | B12: 20 | D12: Изменение запасов сырья | E12: =H11-I11 -> 30 | G12: Запасы готовой продукции | H12: 120 | I12: 160
A13: Амортизация | B13: 20 | D13: Изменение запасов готовой продукции | E13: =H12-I12 -> -40 | G13: Дебиторская задолженность | H13: 276 | I13: 256
A14: Всего Операционные расходы | B14: =SUM(B11:B13) -> 70 | D14: Изменение дебиторской задолженности | E14: =H13-I13 -> 20 | G14: Банк и Касса | H14: 100 | I14: 36
D15: Изменение текущих обязательств | E15: =I26-H26 -> -27
A16: Операционная прибыль | B16: =B9-B14 -> 30 | G16: Текущие активы | H16: =SUM(H11:H14) -> 580 | I16: =SUM(I11:I14) -> 506
A18: Проценты выплаченные | B18: 14 | D18: Всего изменение рабочего капитала | E18: =SUM(E12:E17) -> -17 | G18: ВСЕГО АКТИВЫ | H18: =H9+H16 -> 4710 | I18: =I9+I16 -> 4646
A20: Прибыль до налогообложения | B20: =B16-B18 -> 16 | D20: Чистый операционный поток | E20: =E8+E9+E18 -> 16 | G20: ОБЯЗАТЕЛЬСТВА
D21: II. Инвестиционная деятельность
A22: Налог на прибыль | B22: =ROUND(B20*0.2,0) -> 3 | D22: Отток | G22: Расчеты за сырье | H22: 130 | I22: 120
D23: Закупка основных фондов | E23: =I7-H7+E9 -> 30 | G23: Обязат-ва по ЗП | H23: 89 | I23: 84
A24: Чистая прибыль | B24: =B20-B22 -> 13 | G24: Обязат-ва по налогу на прибыль | H24: 15 | I24: 3
D25: Чистый инвестиционный поток | E25: =-E23 -> -30
G26: Текущие обязательства | H26: =SUM(H22:H24) -> 234 | I26: =SUM(I22:I24) -> 207
D27: III. Финансовая деятельность
D28: Приток | G28: Краткосрочные Кредиты | H28: 891 | I28: 941
A29: Производственный отчет | D29: Получение краткосрочных кредитов | E29: =I28-H28 -> 50
D30: Получение долгосрочных кредитов | E30: 0 | G30: Долгосрочные Кредиты | H30: 2000 | I30: 1900
A31: Приход сырья и материалов | B31: 90 | D31: Всего | E31: =SUM(E29:E30) -> 50
D32: Отток | G32: КАПИТАЛ
A33: Расходы материалов в производство | B33: 120 | D33: Возврат долгосрочного кредита | E33: =H30-I30 -> 100 | G33: Уставной капитал | H33: 520 | I33: 520
A34: ЗП рабочих | B34: 55 | D34: Возврат краткосрочных кредитов | E34: 0 | G34: Нераспределенная прибыль | H34: 1065 | I34: 1078
A35: Общепроизводственные расходы | B35: 25 | D35: Всего | E35: =SUM(E33:E34) -> 100 | G35: Всего Капитал | H35: =H33+H34 -> 1585 | I35: =I33+I34 -> 1598
A36: Амортизация произв-го оборуд-я | B36: 20 | D36: Чистый финансовый поток | E36: =E31-E35 -> -50
A37: Затраты на производство всего | B37: =SUM(B33:B36) -> 220 | D37: Общий Чистый поток | E37: =E20+E25+E36 -> -64 | G37: ВСЕГО ПАССИВЫ | H37: =H26+H30+H35+H28 -> 4710 | I37: =I26+I30+I35+I28 -> 4646
D39: Входящий остаток на счете | E39: =H14 -> 100
D40: Исходящий остаток на счете | E40: =E39+E37 -> 36

Sheet задание
C1: Исходные данные: Компания, находящаяся на общей системе налогообложения, занимается оптовой торговлей нефтепродуктами. В год реализует 1 000 тонн товара по цене 36 тыс. рублей за тонну (здесь и далее данные приводятся без учета НДС). Цена закупа составляет 24 тыс. рублей за тонну. Расходы на реализацию товара составляют 1,2 тыс. рублей за тонну. Расходы на содержание управленческого аппарата составляют 6 млн. рублей в год. Предприятие взяло 01 января отчетного года кредит в размере 12 млн. рублей, который погасило в течение года ежемесячными равными платежами. Ставка по кредиту 12% годовых. На заемные средства в январе отчетного года были приобретены ОС стоимостью 12 млн. руб., но уже с учетом НДС 20%. Срок полезного использования 10 лет. Способ начисления амортизации – линейный. Необходимо: Составить бюджет PL, CF и BS предприятия за отчетный год с помесячной разбивкой. Для упрощения принимаем, что доходы и расходы распределены по месяцам равномерно. При составлении CF принимаем упрощение, что все оборотные статьи баланса остаются в течение года неизменными, например: дебиторская задолженность (или запасы товара, кредиторка, запасы материалов и прочее) не меняется из месяца в месяц. Рассчитать: маржинальную прибыль; точку безубыточности; рентабельность производства; рентабельность продаж; рентабельность активов (тех, которые перечислены в задании); EBITDA.
C23: кол-во | D23: цена, руб | E23: ст-ть без НДС, тыс руб | F23: цена с НДС, тыс руб
B24: реализация | C24: =1000*1000 -> 1000000 | D24: 36000 | E24: =C24*D24/1000 -> 36000000
A25: 41 | B25: покупка | C25: =C24 -> 1000000 | D25: 24000 | E25: =C25*D25/1000 -> 24000000
A26: 44 | B26: расходы на реал | C26: =C25 -> 1000000 | D26: 1200 | E26: =C26*D26/1000 -> 1200000
A27: 44 (26) | B27: расходы упр | E27: =6000000/1000 -> 6000
E28: =SUM(E25:E27)/12 -> 2100500
B29: кредит | E29: =12000000/1000 -> 12000
B30: ставка кредита | D30: 0.12
B31: срок кредита | D31: 12
B32: платеж | E32: =-PMT(D30/12,D31,E29) -> 1066.1855
B33: стоимость кредита | E33: =E32*D31 -> 12794.226
B34: % | E34: =E33-E29 -> 794.22557
B35: ОС | E35: =10000000/1000 -> 10000 | F35: =12000000/1000 -> 12000 | G35: 10 лет
B36: амортизация в месяц | E36: =E35/(10*12) -> 83.333333 | F36: =E36*12 -> 1000
B37: НДС покупка + ОС | E37: =(E25+E35)*20/100 -> 4802000
B38: НДС реализация | E38: =E24*20/100 -> 7200000

Sheet BS
B1: КОД | C1: январь | D1: февраль | E1: март | F1: апрель | G1: май | H1: июнь | I1: июль | J1: август | K1: сентябрь | L1: октябрь | M1: ноябрь | N1: декабрь | O1: ГОД
A2: АКТИВ | C2: =C13+C21 -> 2101708.3 | D2: =D13+D21 -> 2101625 | E2: =E13+E21 -> 2101541.7 | F2: =F13+F21 -> 2101458.3 | G2: =G13+G21 -> 2101375 | H2: =H13+H21 -> 2101291.7 | I2: =I13+I21 -> 2101208.3 | J2: =J13+J21 -> 2101125 | ... N2: =N13+N21 -> 2100791.7 | O2: =SUM(B2:N2) -> 25215000
A3: ПОСТОЯННЫЕ АКТИВЫ | O3: =SUM(B3:N3) -> 0
A4: Нематериальные активы | B4: 1110 | O4: =SUM(B4:N4) -> 0
A5: Результаты исследований и разработок | B5: 1120 | O5: =SUM(B5:N5) -> 0
A6: Нематериальные поисковые активы | B6: 1130 | O6: =SUM(B6:N6) -> 0
A7: Материальные поисковые активы | B7: 1140 | O7: =SUM(B7:N7) -> 0
A8: Основные средства(без аморт.) | B8: 1150 | C8: =D8+10000/120 -> 1208.3333 | D8: =E8+10000/120 -> 1125 | E8: =F8+10000/120 -> 1041.6667 | F8: =G8+10000/120 -> 958.33333 | G8: =H8+10000/120 -> 875 | H8: =I8+10000/120 -> 791.66667 | I8: =J8+10000/120 -> 708.33333 | J8: =K8+10000/120 -> 625 | ... M8: =N8+10000/120 -> 375 | N8: 291.66667 | O8: =SUM(B8:N8) -> 9000
A9: Доходные вложения в материальные ценности | B9: 1160 | O9: =SUM(B9:N9) -> 0
A10: Финансовые вложения | B10: 1170 | O10: =SUM(B10:N10) -> 0
A11: Отложенные налоговые активы | B11: 1180 | O11: =SUM(C11:N11) -> 0
A12: Прочие внеоборотные активы | B12: 1190 | O12: =SUM(C12:N12) -> 0
A13: Итого постоянные активы | B13: 1100 | C13: =C8 -> 1208.3333 | D13: =D8 -> 1125 | E13: =E8 -> 1041.6667 | F13: =F8 -> 958.33333 | G13: =G8 -> 875 | H13: =H8 -> 791.66667 | I13: =I8 -> 708.33333 | J13: =J8 -> 625 | ... N13: =N8 -> 291.66667 | O13: =SUM(C13:N13) -> 9000 | P13: ос на конец года
A14: ОБОРОТНЫЕ АКТИВЫ | O14: =SUM(C14:N14) -> 0
A15: Запасы | B15: 1210 | C15: =(24000000+1200000+6000)/12 -> 2100500 | D15: =(24000000+1200000+6000)/12 -> 2100500 | E15: =(24000000+1200000+6000)/12 -> 2100500 | F15: =(24000000+1200000+6000)/12 -> 2100500 | G15: =(24000000+1200000+6000)/12 -> 2100500 | H15: =(24000000+1200000+6000)/12 -> 2100500 | I15: =(24000000+1200000+6000)/12 -> 2100500 | J15: =(24000000+1200000+6000)/12 -> 2100500 | ... N15: =(24000000+1200000+6000)/12 -> 2100500 | O15: =SUM(C15:N15) -> 25206000
A16: Налог на добавленную стоимость по приобретенным ценностям | B16: 1220 | O16: =SUM(C16:N16) -> 0
A17: Дебиторская задолженность | B17: 1230 | O17: =SUM(C17:N17) -> 0
A18: Финансовые вложения (за исключением денежных эквивалентов) | B18: 1240 | O18: =SUM(C18:N18) -> 0
A19: Денежные средства и денежные эквиваленты | B19: 1250 | O19: =SUM(C19:N19) -> 0
A20: Прочие оборотные активы | B20: 1260 | O20: =SUM(C20:N20) -> 0
A21: Итого оборотные активы | C21: =SUM(C15:C20) -> 2100500 | D21: =SUM(D15:D20) -> 2100500 | E21: =SUM(E15:E20) -> 2100500 | F21: =SUM(F15:F20) -> 2100500 | G21: =SUM(G15:G20) -> 2100500 | H21: =SUM(H15:H20) -> 2100500 | I21: =SUM(I15:I20) -> 2100500 | J21: =SUM(J15:J20) -> 2100500 | ... N21: =SUM(N15:N20) -> 2100500 | O21: =SUM(C21:N21) -> 25206000 | P21: статьи 41+44+46
A22: ПАССИВ | C22: =C30+C38+C43 -> 721612.76 | D22: =D30+D38+D43 -> 721612.76 | E22: =E30+E38+E43 -> 721612.76 | F22: =F30+F38+F43 -> 721612.76 | G22: =G30+G38+G43 -> 721612.76 | H22: =H30+H38+H43 -> 721612.76 | I22: =I30+I38+I43 -> 721612.76 | J22: =J30+J38+J43 -> 721612.76 | ... N22: =N30+N38+N43 -> 721612.76 | O22: =SUM(C22:N22) -> 8659353.1
A23: КАПИТАЛ И РЕЗЕРВЫ | O23: =SUM(C23:N23) -> 0
A24: Уставный капитал (складочный капитал, уставный фонд, вклады товарищей) | B24: 1310 | O24: =SUM(C24:N24) -> 0
A25: Собственные акции, выкупленные у акционеров | B25: 1320 | O25: =SUM(C25:N25) -> 0
A26: Переоценка внеоборотных активов | B26: 1340 | O26: =SUM(C26:N26) -> 0
A27: Добавочный капитал (без переоценки) | B27: 1350 | O27: =SUM(C27:N27) -> 0
A28: Резервный капитал | B28: 1360 | O28: =SUM(C28:N28) -> 0
A29: Нераспределенная прибыль (непокрытый убыток) | B29: 1370 | C29: =PL!C19 -> 719480.38 | D29: =PL!D19 -> 719480.38 | E29: =PL!E19 -> 719480.38 | F29: =PL!F19 -> 719480.38 | G29: =PL!G19 -> 719480.38 | H29: =PL!H19 -> 719480.38 | I29: =PL!I19 -> 719480.38 | J29: =PL!J19 -> 719480.38 | ... N29: =PL!N19 -> 719480.38 | O29: =SUM(C29:N29) -> 8633764.6
A30: Итого капитал и резервы | C30: =SUM(C24:C29) -> 719480.38 | D30: =SUM(D24:D29) -> 719480.38 | E30: =SUM(E24:E29) -> 719480.38 | F30: =SUM(F24:F29) -> 719480.38 | G30: =SUM(G24:G29) -> 719480.38 | H30: =SUM(H24:H29) -> 719480.38 | I30: =SUM(I24:I29) -> 719480.38 | J30: =SUM(J24:J29) -> 719480.38 | ... N30: =SUM(N24:N29) -> 719480.38 | O30: =SUM(C30:N30) -> 8633764.6 | P30: строка 2400 PL чистая прибыль
A31: ДОЛГОСРОЧНЫЕ ОБЯЗАТЕЛЬСТВА | O31: =SUM(C31:N31) -> 0
A32: Заемные средства | B32: 1410 | O32: =SUM(C32:N32) -> 0
A33: Отложенные налоговые обязательства | B33: 1420 | O33: =SUM(C33:N33) -> 0
A34: Оценочные обязательства | B34: 1430 | O34: =SUM(C34:N34) -> 0
A35: Прочие обязательства | B35: 1450 | O35: =SUM(C35:N35) -> 0
A36: Итого долгосрочных обязательств | O36: =SUM(C36:N36) -> 0
A37: КРАТКОСРОЧНЫЕ ОБЯЗАТЕЛЬСТВА | O37: =SUM(C37:N37) -> 0
A38: Заемные средства | B38: 1510 | C38: 1066.1855 | D38: 1066.1855 | E38: 1066.1855 | F38: 1066.1855 | G38: 1066.1855 | H38: 1066.1855 | I38: 1066.1855 | J38: 1066.1855 | K38: 1066.1855 | L38: 1066.1855 | M38: 1066.1855 | N38: 1066.1855 | O38: =SUM(C38:N38) -> 12794.226 | P38: кредит + %
A39: Кредиторская задолженность | B39: 1520 | O39: =SUM(C39:N39) -> 0
A40: Доходы будущих периодов | B40: 1530 | O40: =SUM(C40:N40) -> 0
...

Sheet PL
A1: Наименование показателя | C1: январь | D1: февраль | E1: март | F1: апрель | G1: май | H1: июнь | I1: июль | J1: август | K1: сентябрь | L1: октябрь | M1: ноябрь | N1: декабрь | O1: ГОД
A2: Выручка | B2: 2110 | C2: =(36000/12)*1000 -> 3000000 | D2: =(36000/12)*1000 -> 3000000 | E2: =(36000/12)*1000 -> 3000000 | F2: =(36000/12)*1000 -> 3000000 | G2: =(36000/12)*1000 -> 3000000 | H2: =(36000/12)*1000 -> 3000000 | I2: =(36000/12)*1000 -> 3000000 | J2: =(36000/12)*1000 -> 3000000 | ... N2: =(36000/12)*1000 -> 3000000 | O2: =SUM(C2:N2) -> 36000000 | P2: реализация
A3: Себестоимость продаж | B3: 2120 | C3: =24000000/12+10000/(10*12) -> 2000083.3 | D3: =24000000/12+10000/(10*12) -> 2000083.3 | E3: =24000000/12+10000/(10*12) -> 2000083.3 | F3: =24000000/12+10000/(10*12) -> 2000083.3 | G3: =24000000/12+10000/(10*12) -> 2000083.3 | H3: =24000000/12+10000/(10*12) -> 2000083.3 | I3: =24000000/12+10000/(10*12) -> 2000083.3 | J3: =24000000/12+10000/(10*12) -> 2000083.3 | ... N3: =24000000/12+10000/(10*12) -> 2000083.3 | O3: =SUM(C3:N3) -> 24001000 | P3: ст 41 + амортизация
A4: Валовая прибыль (убыток) | B4: 2100 | C4: =C2-C3 -> 999916.67 | D4: =D2-D3 -> 999916.67 | E4: =E2-E3 -> 999916.67 | F4: =F2-F3 -> 999916.67 | G4: =G2-G3 -> 999916.67 | H4: =H2-H3 -> 999916.67 | I4: =I2-I3 -> 999916.67 | J4: =J2-J3 -> 999916.67 | ... O4: =O2-O3 -> 11999000 | P4: 2110-2120
A5: Коммерческие расходы | B5: 2210 | C5: =1200000/12+6000/12 -> 100500 | D5: =1200000/12+6000/12 -> 100500 | E5: =1200000/12+6000/12 -> 100500 | F5: =1200000/12+6000/12 -> 100500 | G5: =1200000/12+6000/12 -> 100500 | H5: =1200000/12+6000/12 -> 100500 | I5: =1200000/12+6000/12 -> 100500 | J5: =1200000/12+6000/12 -> 100500 | ... N5: =1200000/12+6000/12 -> 100500 | O5: =SUM(C5:N5) -> 1206000 | P5: ст 44
A6: Управленческие расходы | B6: 2220 | O6: =SUM(C6:N6) -> 0
A7: Прибыль (убыток) от продаж | B7: 2200 | C7: =C4-C5-C6 -> 899416.67 | D7: =D4-D5-D6 -> 899416.67 | E7: =E4-E5-E6 -> 899416.67 | F7: =F4-F5-F6 -> 899416.67 | G7: =G4-G5-G6 -> 899416.67 | H7: =H4-H5-H6 -> 899416.67 | I7: =I4-I5-I6 -> 899416.67 | J7: =J4-J5-J6 -> 899416.67 | ... N7: =N4-N5-N6 -> 899416.67 | O7: =O4-O5 -> 10793000 | P7: 2100-2210
A8: Доходы от участия в других организациях | B8: 2310 | O8: =SUM(C8:N8) -> 0
A9: Проценты к получению | B9: 2320 | O9: =SUM(C9:N9) -> 0
A10: Проценты к уплате | B10: 2330 | C10: =794.225569681203/12 -> 66.185464 | D10: =794.225569681203/12 -> 66.185464 | E10: =794.225569681203/12 -> 66.185464 | F10: =794.225569681203/12 -> 66.185464 | G10: =794.225569681203/12 -> 66.185464 | H10: =794.225569681203/12 -> 66.185464 | I10: =794.225569681203/12 -> 66.185464 | J10: =794.225569681203/12 -> 66.185464 | ... N10: =794.225569681203/12 -> 66.185464 | O10: =SUM(C10:N10) -> 794.22557 | P10: % по кредиту
A11: Прочие доходы | B11: 2340 | O11: =SUM(C11:N11) -> 0
A12: Прочие расходы | B12: 2350 | O12: =SUM(C12:N12) -> 0
A13: Прибыль (убыток) до налогообложения | B13: 2300 | C13: =C7+C8+C9+C11-C10-C12 -> 899350.48 | D13: =D7+D8+D9+D11-D10-D12 -> 899350.48 | E13: =E7+E8+E9+E11-E10-E12 -> 899350.48 | F13: =F7+F8+F9+F11-F10-F12 -> 899350.48 | G13: =G7+G8+G9+G11-G10-G12 -> 899350.48 | H13: =H7+H8+H9+H11-H10-H12 -> 899350.48 | I13: =I7+I8+I9+I11-I10-I12 -> 899350.48 | J13: =J7+J8+J9+J11-J10-J12 -> 899350.48 | ... N13: =N7+N8+N9+N11-N10-N12 -> 899350.48 | O13: =O7-O10 -> 10792206 | P13: 2200-2330
A14: Текущий налог на прибыль | B14: 2410 | C14: =C13*20/100 -> 179870.1 | D14: =D13*20/100 -> 179870.1 | E14: =E13*20/100 -> 179870.1 | F14: =F13*20/100 -> 179870.1 | G14: =G13*20/100 -> 179870.1 | H14: =H13*20/100 -> 179870.1 | I14: =I13*20/100 -> 179870.1 | J14: =J13*20/100 -> 179870.1 | ... N14: =N13*20/100 -> 179870.1 | O14: =SUM(C14:N14) -> 2158441.2 | P14: 20% от 2300
A15: в т.ч. постоянные налоговые обязательства (активы) | B15: 2421 | O15: =SUM(C15:N15) -> 0
A16: Изменение отложенных налоговых обязательств | B16: 2430 | O16: =SUM(C16:N16) -> 0
A17: Изменение отложенных налоговых активов | B17: 2450 | O17: =SUM(C17:N17) -> 0
A18: Прочее | B18: 2460 | O18: =SUM(C18:N18) -> 0
A19: Чистая прибыль (убыток) | B19: 2400 | C19: =C13-C14 -> 719480.38 | D19: =D13-D14 -> 719480.38 | E19: =E13-E14 -> 719480.38 | F19: =F13-F14 -> 719480.38 | G19: =G13-G14 -> 719480.38 | H19: =H13-H14 -> 719480.38 | I19: =I13-I14 -> 719480.38 | J19: =J13-J14 -> 719480.38 | ... O19: =O13-O14 -> 8633764.6 | P19: 2300-2410
A20: Результат от переоценки внеоборотных активов, не включаемый в чистую прибыль (убыток) периода | B20: 2510 | O20: =SUM(C20:N20) -> 0
A21: Результат от прочих операций, не включаемый в чистую прибыль (убыток) периода | B21: 2520 | O21: =SUM(C21:N21) -> 0
A22: Совокупный финансовый результат периода | B22: 2500 | O22: =SUM(C22:N22) -> 0
A23: Справочно | B23: 2900 | O23: =SUM(C23:N23) -> 0
A24: Базовая прибыль (убыток) на акцию | B24: 2910 | O24: =SUM(C24:N24) -> 0
A25: Разводненная прибыль (убыток) на акцию

Sheet CF
A1: Денежные потоки от текущих операций
A3: Поступления - всего | B3: 4110
A4: в том числе:
A6: от продажи продукции, товаров, работ и услуг | B6: 4111
A7: арендных платежей, лицензионных платежей, роялти, комиссионных и иных аналогичных платежей | B7: 4112
A8: от перепродажи финансовых вложений | B8: 4113
A9: прочие поступления | B9: 4119
A10: Платежи - всего | B10: 4120
A11: в том числе:
A13: поставщикам (подрядчикам) за сырье, материалы, работы, услуги | B13: 4121
A14: в связи с оплатой труда работников | B14: 4122
A15: процентов по долговым обязательствам | B15: 4123
A16: налога на прибыль организаций | B16: 4124
A17: прочие платежи | B17: 4129
A18: Сальдо денежных потоков от текущих операций | B18: 4100
A19: Денежные потоки от инвестиционных операций
A21: Поступления - всего | B21: 4210
A22: в том числе:
A24: от продажи внеоборотных активов (кроме финансовых вложений) | B24: 4211
A25: от продажи акций других организаций (долей участия) | B25: 4212
A26: от возврата предоставленных займов, от продажи долговых ценных бумаг (прав требования денежных средств к другим лицам) | B26: 4213
A27: дивидендов, процентов по долговым финансовым вложениям и аналогичных поступлений от долевого участия в других организациях | B27: 4214
A28: прочие поступления | B28: 4219
A29: Платежи - всего | B29: 4220
A30: в том числе:
A32: в связи с приобретением, созданием, модернизацией, реконструкцией и подготовкой к использованию внеоборотных активов | B32: 4221
A33: в связи с приобретением акций других организаций (долей участия) | B33: 4222
A34: в связи с приобретением долговых ценных бумаг (прав требования денежных средств к другим лицам), предоставление займов другим лицам | B34: 4223
A35: процентов по долговым обязательствам, включаемым в стоимость инвестиционного актива | B35: 4224
A36: прочие платежи | B36: 4229
A37: Сальдо денежных потоков от инвестиционных операций | B37: 4200
A38: Денежные потоки от финансовых операций
A40: Поступления - всего | B40: 4310
A41: в том числе:
A43: получение кредитов и займов | B43: 4311
A44: денежных вкладов собственников (участников) | B44: 4312
A45: от выпуска акций, увеличения долей участия | B45: 4313
A46: от выпуска облигаций, векселей и других долговых ценных бумаг и др. | B46: 4314
A47: прочие поступления | B47: 4319
A48: Платежи - всего | B48: 4320
...

Sheet 1
A2: ОФП — Отчёт о Финансовом Положении или Управленческий Баланс (BS — Balance Sheet)
A3: ОПУ — Отчет о Прибылях и Убытках (PL — Profit and Losses)
A4: ОДДС — Отчет о Движении Денежных Средств (CF — CashFlow)
A5: ОФП — Отчёт о Финансовом Положении или Управленческий Баланс (BS — Balance Sheet)
A6: o Ответы на вопросы:
A7: o что было и есть у компании, в каких валютах
A8: o кому принадлежит то, что есть у компании
A9: o разбивка всех статей активов и обязательств по центрам финансовой ответственности. Позволяет понимать капиталоёмкость направлений деятельности компании
A10: В отчете о балансе предприятия всегда должно соблюдаться так называемое “уравнение баланса”: Активы = Обязательства + Капитал
A11: ОПУ — Отчет о Прибылях и Убытках (PL — Profit and Losses) | H11: Срок сдачи: 90 дней по окончании года
A12: Ответы на вопросы:
A13: o какие финансовые результаты деятельности получила компания и в каких периодах
A14: o по каким направлениям деятельности и отделам получена прибыль (убыток)
A15: o насколько финансовый результат совпадает с планом (если в компания есть планирование)
A16: o в каких валютах понесены затраты и получены доходы
A17: o насколько затраты соответствуют доходам этих периодов (зарплата и т.п.)
A18: ОДДС - Отчет о Движении Денежных Средств. Информация о финансовых потоках.
A19: o Ответы на вопросы:
A20: o получение и расходование денег компании за период
A21: o итоговые суммы по операционной, инвестиционной и финансовой деятельности
A22: o отдельно по каждому бизнесу, юридическим лицам и валютам
A23: o разбивка по центрам финансовой ответственности (направлениям или отделам компании)
... A55: Если пассив баланса меньше его актива на 100 руб., то это значит, что при ликвидации организации остались бы свободными100 руб. Эта сумма рассматривается как результат накопления внутри организации. Условимся называть этот результат прибылью. Организация принимает на себя обязательство передать ее владельцу. Вот почему она показывается в пассиве
